BEGIN:VCALENDAR
VERSION:2.0
CALSCALE:GREGORIAN
PRODID:-//WordPress//RSVPMaker//EN
METHOD:REQUEST
BEGIN:VEVENT
DTSTAMP:20260421T090707Z
UID:BB35965B8315F10237B87D2D2D829C0E@rsvpmaker.com
SEQUENCE:0
STATUS:CONFIRMED
DTSTART:20250525T180000Z
DTEND:20250525T190000Z
LOCATION:See\: https\://ortegariverclub.net/rsvpmaker/ballroom-dance-2
 025-05-25/
SUMMARY:Ballroom Dance
DESCRIPTION:Event info\: https\://ortegariverclub.net/rsvpmaker/ballro
 om-dance-2025-05-25/
END:VEVENT
END:VCALENDAR