BEGIN:VCALENDAR
VERSION:2.0
CALSCALE:GREGORIAN
PRODID:-//WordPress//RSVPMaker//EN
METHOD:REQUEST
BEGIN:VEVENT
DTSTAMP:20260420T140742Z
UID:388E604D61FF6D9F655D4EEA2DDCBBC8@rsvpmaker.com
SEQUENCE:0
STATUS:CONFIRMED
DTSTART:20250427T180000Z
DTEND:20250427T190000Z
LOCATION:See\: https\://ortegariverclub.net/rsvpmaker/ballroom-dance-2
 025-04-27/
SUMMARY:Ballroom Dance
DESCRIPTION:Event info\: https\://ortegariverclub.net/rsvpmaker/ballro
 om-dance-2025-04-27/
END:VEVENT
END:VCALENDAR