BEGIN:VCALENDAR
VERSION:2.0
CALSCALE:GREGORIAN
PRODID:-//WordPress//RSVPMaker//EN
METHOD:REQUEST
BEGIN:VEVENT
DTSTAMP:20260420T155446Z
UID:146C17F5CC1FC1826576CAA0D4FCB5C0@rsvpmaker.com
SEQUENCE:0
STATUS:CONFIRMED
DTSTART:20250323T180000Z
DTEND:20250323T190000Z
LOCATION:See\: https\://ortegariverclub.net/rsvpmaker/ballroom-dance-2
 025-03-23/
SUMMARY:Ballroom Dance
DESCRIPTION:Event info\: https\://ortegariverclub.net/rsvpmaker/ballro
 om-dance-2025-03-23/
END:VEVENT
END:VCALENDAR