BEGIN:VCALENDAR
VERSION:2.0
CALSCALE:GREGORIAN
PRODID:-//WordPress//RSVPMaker//EN
METHOD:REQUEST
BEGIN:VEVENT
DTSTAMP:20260420T173228Z
UID:44374C1F0EBAD6DC48951E6C20C25806@rsvpmaker.com
SEQUENCE:0
STATUS:CONFIRMED
DTSTART:20250223T190000Z
DTEND:20250223T200000Z
LOCATION:See\: https\://ortegariverclub.net/rsvpmaker/ballroom-dance-2
 025-02-23/
SUMMARY:Ballroom Dance
DESCRIPTION:Event info\: https\://ortegariverclub.net/rsvpmaker/ballro
 om-dance-2025-02-23/
END:VEVENT
END:VCALENDAR