BEGIN:VCALENDAR
VERSION:2.0
CALSCALE:GREGORIAN
PRODID:-//WordPress//RSVPMaker//EN
METHOD:REQUEST
BEGIN:VEVENT
DTSTAMP:20260420T155446Z
UID:F6E868A7D51F67A210DC306357C6E525@rsvpmaker.com
SEQUENCE:0
STATUS:CONFIRMED
DTSTART:20250209T190000Z
DTEND:20250209T200000Z
LOCATION:See\: https\://ortegariverclub.net/rsvpmaker/ballroom-dance-2
 025-02-09/
SUMMARY:Ballroom Dance
DESCRIPTION:Event info\: https\://ortegariverclub.net/rsvpmaker/ballro
 om-dance-2025-02-09/
END:VEVENT
END:VCALENDAR