BEGIN:VCALENDAR
VERSION:2.0
CALSCALE:GREGORIAN
PRODID:-//WordPress//RSVPMaker//EN
METHOD:REQUEST
BEGIN:VEVENT
DTSTAMP:20260420T173222Z
UID:C77CA1ECA9810917F4C11A449252B048@rsvpmaker.com
SEQUENCE:0
STATUS:CONFIRMED
DTSTART:20250112T190000Z
DTEND:20250112T200000Z
LOCATION:See\: https\://ortegariverclub.net/rsvpmaker/ballroom-dance-2
 025-01-12/
SUMMARY:Ballroom Dance
DESCRIPTION:Event info\: https\://ortegariverclub.net/rsvpmaker/ballro
 om-dance-2025-01-12/
END:VEVENT
END:VCALENDAR