BEGIN:VCALENDAR
VERSION:2.0
CALSCALE:GREGORIAN
PRODID:-//WordPress//RSVPMaker//EN
METHOD:REQUEST
BEGIN:VEVENT
DTSTAMP:20260422T124350Z
UID:BCC50194B786DB40C548A9CED33A34B8@rsvpmaker.com
SEQUENCE:0
STATUS:CONFIRMED
DTSTART:20241222T190000Z
DTEND:20241222T200000Z
LOCATION:See\: https\://ortegariverclub.net/rsvpmaker/ballroom-dance-2
 024-12-22/
SUMMARY:Ballroom Dance
DESCRIPTION:Event info\: https\://ortegariverclub.net/rsvpmaker/ballro
 om-dance-2024-12-22/
END:VEVENT
END:VCALENDAR