BEGIN:VCALENDAR
VERSION:2.0
CALSCALE:GREGORIAN
PRODID:-//WordPress//RSVPMaker//EN
METHOD:REQUEST
BEGIN:VEVENT
DTSTAMP:20260422T105538Z
UID:16048EECD03AA5BC6C1614CCD3F2B423@rsvpmaker.com
SEQUENCE:0
STATUS:CONFIRMED
DTSTART:20241208T190000Z
DTEND:20241208T200000Z
LOCATION:See\: https\://ortegariverclub.net/rsvpmaker/ballroom-dance-2
 024-12-08/
SUMMARY:Ballroom Dance
DESCRIPTION:Event info\: https\://ortegariverclub.net/rsvpmaker/ballro
 om-dance-2024-12-08/
END:VEVENT
END:VCALENDAR