BEGIN:VCALENDAR
VERSION:2.0
CALSCALE:GREGORIAN
PRODID:-//WordPress//RSVPMaker//EN
METHOD:REQUEST
BEGIN:VEVENT
DTSTAMP:20260422T144247Z
UID:8FEC94F6DDFED4722EB7E4746084EBA1@rsvpmaker.com
SEQUENCE:0
STATUS:CONFIRMED
DTSTART:20241124T190000Z
DTEND:20241124T200000Z
LOCATION:See\: https\://ortegariverclub.net/rsvpmaker/ballroom-dance-2
 024-11-24/
SUMMARY:Ballroom Dance
DESCRIPTION:Event info\: https\://ortegariverclub.net/rsvpmaker/ballro
 om-dance-2024-11-24/
END:VEVENT
END:VCALENDAR