BEGIN:VCALENDAR
VERSION:2.0
CALSCALE:GREGORIAN
PRODID:-//WordPress//RSVPMaker//EN
METHOD:REQUEST
BEGIN:VEVENT
DTSTAMP:20260422T124452Z
UID:CF787E7B5F9346FE81658C708CA68C61@rsvpmaker.com
SEQUENCE:0
STATUS:CONFIRMED
DTSTART:20241110T190000Z
DTEND:20241110T200000Z
LOCATION:See\: https\://ortegariverclub.net/rsvpmaker/ballroom-dance-2
 024-11-10/
SUMMARY:Ballroom Dance
DESCRIPTION:Event info\: https\://ortegariverclub.net/rsvpmaker/ballro
 om-dance-2024-11-10/
END:VEVENT
END:VCALENDAR