BEGIN:VCALENDAR
VERSION:2.0
CALSCALE:GREGORIAN
PRODID:-//WordPress//RSVPMaker//EN
METHOD:REQUEST
BEGIN:VEVENT
DTSTAMP:20260422T200603Z
UID:3EB4C11722507EAE902E13A8F202E947@rsvpmaker.com
SEQUENCE:0
STATUS:CONFIRMED
DTSTART:20241027T180000Z
DTEND:20241027T190000Z
LOCATION:See\: https\://ortegariverclub.net/rsvpmaker/ballroom-dance-2
 024-10-27/
SUMMARY:Ballroom Dance
DESCRIPTION:Event info\: https\://ortegariverclub.net/rsvpmaker/ballro
 om-dance-2024-10-27/
END:VEVENT
END:VCALENDAR