BEGIN:VCALENDAR
VERSION:2.0
CALSCALE:GREGORIAN
PRODID:-//WordPress//RSVPMaker//EN
METHOD:REQUEST
BEGIN:VEVENT
DTSTAMP:20260422T104847Z
UID:C031D32C88833D1F9A2144071EAF34D9@rsvpmaker.com
SEQUENCE:0
STATUS:CONFIRMED
DTSTART:20241013T180000Z
DTEND:20241013T190000Z
LOCATION:See\: https\://ortegariverclub.net/rsvpmaker/ballroom-dance-2
 024-10-13/
SUMMARY:Ballroom Dance
DESCRIPTION:Event info\: https\://ortegariverclub.net/rsvpmaker/ballro
 om-dance-2024-10-13/
END:VEVENT
END:VCALENDAR