BEGIN:VCALENDAR
VERSION:2.0
CALSCALE:GREGORIAN
PRODID:-//WordPress//RSVPMaker//EN
METHOD:REQUEST
BEGIN:VEVENT
DTSTAMP:20260422T111229Z
UID:5723AA963DD4FC65B5EBCE3950D57FB4@rsvpmaker.com
SEQUENCE:0
STATUS:CONFIRMED
DTSTART:20240922T180000Z
DTEND:20240922T190000Z
LOCATION:See\: https\://ortegariverclub.net/rsvpmaker/ballroom-dance-2
 024-09-22/
SUMMARY:Ballroom Dance
DESCRIPTION:Event info\: https\://ortegariverclub.net/rsvpmaker/ballro
 om-dance-2024-09-22/
END:VEVENT
END:VCALENDAR