BEGIN:VCALENDAR
VERSION:2.0
CALSCALE:GREGORIAN
PRODID:-//WordPress//RSVPMaker//EN
METHOD:REQUEST
BEGIN:VEVENT
DTSTAMP:20260420T102309Z
UID:381DC6CD0E6BFA5FEB1F70484171A7A9@rsvpmaker.com
SEQUENCE:0
STATUS:CONFIRMED
DTSTART:20240908T180000Z
DTEND:20240908T190000Z
LOCATION:See\: https\://ortegariverclub.net/rsvpmaker/ballroom-dance-2
 024-09-08/
SUMMARY:Ballroom Dance
DESCRIPTION:Event info\: https\://ortegariverclub.net/rsvpmaker/ballro
 om-dance-2024-09-08/
END:VEVENT
END:VCALENDAR