BEGIN:VCALENDAR
VERSION:2.0
CALSCALE:GREGORIAN
PRODID:-//WordPress//RSVPMaker//EN
METHOD:REQUEST
BEGIN:VEVENT
DTSTAMP:20260422T104904Z
UID:7362B26D78069DD38F4B45743FDDC7EE@rsvpmaker.com
SEQUENCE:0
STATUS:CONFIRMED
DTSTART:20240414T180000Z
DTEND:20240414T190000Z
LOCATION:See\: https\://ortegariverclub.net/rsvpmaker/ballroom-dance-2
 024-04-14/
SUMMARY:Ballroom Dance
DESCRIPTION:Event info\: https\://ortegariverclub.net/rsvpmaker/ballro
 om-dance-2024-04-14/
END:VEVENT
END:VCALENDAR