BEGIN:VCALENDAR
VERSION:2.0
CALSCALE:GREGORIAN
PRODID:-//WordPress//RSVPMaker//EN
METHOD:REQUEST
BEGIN:VEVENT
DTSTAMP:20260422T071655Z
UID:316DF47E848EFA60F2904197CE470D49@rsvpmaker.com
SEQUENCE:0
STATUS:CONFIRMED
DTSTART:20200704T180000Z
DTEND:20200704T190000Z
LOCATION:See\: https\://ortegariverclub.net/rsvpmaker/4th-of-july-brin
 g-your-own-picnic/
SUMMARY:4th of July Bring Your Own Picnic on the Patio
DESCRIPTION:Event info\: https\://ortegariverclub.net/rsvpmaker/4th-of
 -july-bring-your-own-picnic/
END:VEVENT
END:VCALENDAR